Workbook
Name 标准沙密度: 辅助!$B$3
Name 含水量差值: 辅助!$J$4
Name 含水量最大值: 辅助!$H$4
Name 含水量最小值: 辅助!$G$4
Name 盒号: 辅助!$B$5:$M$5
Name 盒号随机排列: 辅助!$B$7:$M$7
Name 盒质量: 辅助!$B$6:$M$6
Name 沙总重: 辅助!$J$2
Name 水份质量最大值: 辅助!$H$3
Name 水份质量最小值: 辅助!$G$3
Name 压实度最大值: 辅助!$E$3
Name 压实度最小值: 辅助!$D$3
Name 要求压实度: 辅助!$J$3
Name 余沙质量最大值: 辅助!$E$4
Name 余沙质量最小值: 辅助!$D$4
Name 锥体沙重: 辅助!$B$4
Name 最大干密度: 辅助!$B$2

Sheet 备份
A1: 绕城高速路建设项目
A2: 压实度检测记录
A4: 承包单位：四川路桥建设集团有限公司 | H4: 合同号： | J4: C
A6: 监理单位：重庆中宇监理公司南充绕城路监理部 | H6: 编 号：
A8: 委托单位: | C8: =#REF! -> #REF! | F8: 试验单位:
A9: 委托单位编号： | F9: 试验日期:
A10: 铺筑材料: | C10: =#REF! -> #REF! | F10: 试验规格: | I10: =#REF! -> #REF!
A12: 桩号 | C12: 1 | D12: =辅助!#REF! -> #REF! | F12: =辅助!#REF! -> #REF! | H12: =辅助!#REF! -> #REF! | J12: =辅助!#REF! -> #REF!
A13: 地面标高（cm） | C13: 2
A14: 距中线距离(m)（左+右-） | C14: 3
A15: 压实厚度及试坑深度(cm) | C15: 4 | D15: =辅助!K8&"/"&ROUND(辅助!#REF!,0) -> #REF! | F15: =辅助!K8&"/"&ROUND(辅助!#REF!,0) -> #REF! | H15: =辅助!K8&"/"&ROUND(辅助!#REF!,0) -> #REF! | J15: =辅助!K8&"/"&ROUND(辅助!#REF!,0) -> #REF!
A16: 沙总重(g) | C16: 5 | D16: =辅助!C12 -> 20000 | F16: =辅助!E12 -> 20000 | H16: =辅助!G12 -> 20000 | J16: =辅助!K12 -> 20000
A17: 余沙重(g) | C17: 6 | D17: =辅助!C13 -> 3849 | F17: =辅助!E13 -> 4468 | H17: =辅助!G13 -> 4366 | J17: =辅助!K13 -> 4342
A18: 锥体沙重(g) | C18: 7 | D18: =辅助!C14 -> 16151 | F18: =辅助!E14 -> 15532 | H18: =辅助!G14 -> 15634 | J18: =辅助!K14 -> 15658
A19: 量沙密度(g/cm3) | C19: 8 | D19: =辅助!C15 -> 28047.056 | F19: =辅助!E15 -> 26992.783 | H19: =辅助!G15 -> 27485.597 | J19: =辅助!K15 -> 27376.649
A20: 试坑体积(cm3) | C20: 9 | D20: =ROUND((D16-D17-D18)/D19,2) -> 0 | F20: =ROUND((F16-F17-F18)/F19,2) -> 0 | H20: =ROUND((H16-H17-H18)/H19,2) -> 0 | J20: =ROUND((J16-J17-J18)/J19,2) -> 0
A21: 试样湿土重(g) | C21: 10 | D21: =辅助!C17 -> 11174.126 | F21: =辅助!E17 -> 10741.259 | H21: =辅助!G17 -> 10812.587 | J21: =辅助!K17 -> 10829.371
A22: 试样湿密度(g/cm3) | C22: 11 | D22: =ROUND(D21/D20,3) -> #DIV/0! | F22: =ROUND(F21/F20,3) -> #DIV/0! | H22: =ROUND(H21/H20,3) -> #DIV/0! | J22: =ROUND(J21/J20,3) -> #DIV/0!
A23: 式样含水量 | B23: 盒号 | C23: 12 | D23: 1 | E23: 2 | F23: 3 | G23: 4 | H23: 5 | I23: 6 | J23: 7 | K23: 8
B24: 盒重(g) | C24: 13 | D24: =辅助!#REF! -> #REF! | E24: =辅助!#REF! -> #REF! | F24: =辅助!#REF! -> #REF! | G24: =辅助!#REF! -> #REF! | H24: =辅助!#REF! -> #REF! | I24: =辅助!#REF! -> #REF! | J24: =辅助!#REF! -> #REF! | K24: =辅助!#REF! -> #REF!
B25: 盒+湿土重(g) | C25: 14 | D25: =辅助!C21 -> 655.39056 | E25: =辅助!D21 -> 697.63461 | F25: =辅助!E21 -> 684.85432 | G25: =辅助!F21 -> 613.01056 | H25: =辅助!G21 -> 678.46839 | I25: =辅助!H21 -> 609.4799 | J25: =辅助!K21 -> 583.0125 | K25: =辅助!L21 -> 585.3332
B26: 盒+干土重(g) | C26: 15 | D26: =辅助!C22 -> 601.81893 | E26: =辅助!D22 -> 640.50194 | F26: =辅助!E22 -> 635.94585 | G26: =辅助!F22 -> 568.89189 | H26: =辅助!G22 -> 625.053 | I26: =辅助!H22 -> 562.05613 | J26: =辅助!K22 -> 540.12667 | K26: =辅助!L22 -> 542.37964
B27: 干土重(g) | C27: 16 | D27: =辅助!C23 -> 53.571621 | E27: =辅助!D23 -> 57.132668 | F27: =辅助!E23 -> 48.908468 | G27: =辅助!F23 -> 44.11867 | H27: =辅助!G23 -> 53.415397 | I27: =辅助!H23 -> 47.423765 | J27: =辅助!K23 -> 42.885824 | K27: =辅助!L23 -> 42.95356
B28: 含水量(g) | C28: 17 | D28: =D25-D26 -> 53.571621 | E28: =E25-E26 -> 57.132668 | F28: =F25-F26 -> 48.908468 | G28: =G25-G26 -> 44.11867 | H28: =H25-H26 -> 53.415397 | I28: =I25-I26 -> 47.423765 | J28: =J25-J26 -> 42.885824 | K28: =K25-K26 -> 42.95356
B29: 含水率（%） | C29: 18 | D29: =ROUND(D28*100/D27,1) -> 100 | E29: =ROUND(E28*100/E27,1) -> 100 | F29: =ROUND(F28*100/F27,1) -> 100 | G29: =ROUND(G28*100/G27,1) -> 100 | H29: =ROUND(H28*100/H27,1) -> 100 | I29: =ROUND(I28*100/I27,1) -> 100 | J29: =ROUND(J28*100/J27,1) -> 100 | K29: =ROUND(K28*100/K27,1) -> 100
B30: 平均含水率（%） | C30: 19 | D30: =ROUND((D29+E29)/2,1) -> 100 | F30: =ROUND((F29+G29)/2,1) -> 100 | H30: =ROUND((H29+I29)/2,1) -> 100 | J30: =ROUND((J29+K29)/2,1) -> 100
A31: 试样干密度(g/cm3) | C31: 20 | D31: =ROUND(D22/(1+D30/100),3) -> #DIV/0! | F31: =ROUND(F22/(1+F30/100),3) -> #DIV/0! | H31: =ROUND(H22/(1+H30/100),3) -> #DIV/0! | J31: =ROUND(J22/(1+J30/100),3) -> #DIV/0!
A32: 标准干密度(g/cm3) | C32: 21 | D32: =辅助!C28 -> 2.36 | F32: =辅助!E28 -> 2.36 | H32: =辅助!G28 -> 2.36 | J32: =辅助!K28 -> 2.36
A33: 压实度（%） | C33: 22 | D33: =ROUND(D31*100/D32,1) -> #DIV/0! | F33: =ROUND(F31*100/F32,1) -> #DIV/0! | H33: =ROUND(H31*100/H32,1) -> #DIV/0! | J33: =ROUND(J31*100/J32,1) -> #DIV/0!
A34: 要求压实度（%） | C34: 23 | D34: =辅助!C30 -> 0 | F34: =辅助!E30 -> 0 | H34: =辅助!G30 -> 0 | J34: =辅助!K30 -> 0
A35: 含石量（%）
A37: 试验人： | D37: 校核人： | H37: 监理工程师：

Sheet 计算
A11: 筒质量+沙质量(g) | C11: =辅助!C12 -> 20000 | E11: =辅助!E12 -> 20000 | G11: =辅助!G12 -> 20000 | I11: =辅助!I12 -> 20000 | K11: =辅助!K12 -> 20000
A12: 筒质量+余沙质量(g) | C12: =辅助!C13 -> 3849 | E12: =辅助!E13 -> 4468 | G12: =辅助!G13 -> 4366 | I12: =辅助!I13 -> 3898 | K12: =辅助!K13 -> 4342
A13: 流出砂质量(g) | C13: =辅助!C14 -> 16151 | E13: =辅助!E14 -> 15532 | G13: =辅助!G14 -> 15634 | I13: =辅助!I14 -> 16102 | K13: =辅助!K14 -> 15658
A14: 试坑中湿土质量(g) | C14: =ROUND(辅助!C15,0) -> 28047 | E14: =ROUND(辅助!E15,0) -> 26993 | G14: =ROUND(辅助!G15,0) -> 27486 | I14: =ROUND(辅助!I15,0) -> 28351 | K14: =ROUND(辅助!K15,0) -> 27377
A15: 坑内砂质量(g) | C15: =ROUND(辅助!C16,0) -> 15979 | E15: =ROUND(辅助!E16,0) -> 15360 | G15: =ROUND(辅助!G16,0) -> 15462 | I15: =ROUND(辅助!I16,0) -> 15930 | K15: =ROUND(辅助!K16,0) -> 15486
A16: 试坑体积(cm³) | C16: =ROUND(C15/标准沙密度,1) -> 11174.1 | E16: =ROUND(E15/标准沙密度,1) -> 10741.3 | G16: =ROUND(G15/标准沙密度,1) -> 10812.6 | I16: =ROUND(I15/标准沙密度,1) -> 11139.9 | K16: =ROUND(K15/标准沙密度,1) -> 10829.4
A17: 试样湿密度(g/cm³) | C17: =ROUND(C14/C16,3) -> 2.51 | E17: =ROUND(E14/E16,3) -> 2.513 | G17: =ROUND(G14/G16,3) -> 2.542 | I17: =ROUND(I14/I16,3) -> 2.545 | K17: =ROUND(K14/K16,3) -> 2.528
A18: 式样含水量 | B18: 盒号 | C18: =辅助!C19 -> 3 | D18: =辅助!D19 -> 10 | E18: =辅助!E19 -> 7 | F18: =辅助!F19 -> 9 | G18: =辅助!G19 -> 12 | H18: =辅助!H19 -> 5 | I18: =辅助!I19 -> 11 | J18: =辅助!J19 -> 4 | ... L18: =辅助!L19 -> 8
B19: 盒质量(g) | C19: =辅助!C20 -> 25.78 | D19: =辅助!D20 -> 26.06 | E19: =辅助!E20 -> 24.59 | F19: =辅助!F20 -> 22.63 | G19: =辅助!G20 -> 24.88 | H19: =辅助!H20 -> 26.08 | I19: =辅助!I20 -> 26.73 | J19: =辅助!J20 -> 22.63 | ... L19: =辅助!L20 -> 23.63
B20: 盒+湿土质量(g) | C20: =ROUND(辅助!C21,0) -> 655 | D20: =ROUND(辅助!D21,0) -> 698 | E20: =ROUND(辅助!E21,0) -> 685 | F20: =ROUND(辅助!F21,0) -> 613 | G20: =ROUND(辅助!G21,0) -> 678 | H20: =ROUND(辅助!H21,0) -> 609 | I20: =ROUND(辅助!I21,0) -> 676 | J20: =ROUND(辅助!J21,0) -> 696 | ... L20: =ROUND(辅助!L21,0) -> 585
B21: 盒+干土质量(g) | C21: =ROUND(辅助!C22,0) -> 602 | D21: =ROUND(辅助!D22,0) -> 641 | E21: =ROUND(辅助!E22,0) -> 636 | F21: =ROUND(辅助!F22,0) -> 569 | G21: =ROUND(辅助!G22,0) -> 625 | H21: =ROUND(辅助!H22,0) -> 562 | I21: =ROUND(辅助!I22,0) -> 624 | J21: =ROUND(辅助!J22,0) -> 642 | ... L21: =ROUND(辅助!L22,0) -> 542
B22: 水分质量(g) | C22: =C20-C21 -> 53 | D22: =D20-D21 -> 57 | E22: =E20-E21 -> 49 | F22: =F20-F21 -> 44 | G22: =G20-G21 -> 53 | H22: =H20-H21 -> 47 | I22: =I20-I21 -> 52 | J22: =J20-J21 -> 54 | ... L22: =L20-L21 -> 43
B23: 干土质量(g) | C23: =C21-C19 -> 576.22 | D23: =D21-D19 -> 614.94 | E23: =E21-E19 -> 611.41 | F23: =F21-F19 -> 546.37 | G23: =G21-G19 -> 600.12 | H23: =H21-H19 -> 535.92 | I23: =I21-I19 -> 597.27 | J23: =J21-J19 -> 619.37 | ... L23: =L21-L19 -> 518.37
B24: 含水率（%） | C24: =ROUND(100*C22/C23,1) -> 9.2 | D24: =ROUND(100*D22/D23,1) -> 9.3 | E24: =ROUND(100*E22/E23,1) -> 8 | F24: =ROUND(100*F22/F23,1) -> 8.1 | G24: =ROUND(100*G22/G23,1) -> 8.8 | H24: =ROUND(100*H22/H23,1) -> 8.8 | I24: =ROUND(100*I22/I23,1) -> 8.7 | J24: =ROUND(100*J22/J23,1) -> 8.7 | ... L24: =ROUND(100*L22/L23,1) -> 8.3
B25: 平均含水率（%） | C25: =ROUND((C24+D24)/2,1) -> 9.3 | E25: =ROUND((E24+F24)/2,1) -> 8.1 | G25: =ROUND((G24+H24)/2,1) -> 8.8 | I25: =ROUND((I24+J24)/2,1) -> 8.7 | K25: =ROUND((K24+L24)/2,1) -> 8.3
A26: 干密度(g/cm³) | C26: =ROUND(C17/(1+C25/100),3) -> 2.296 | E26: =ROUND(E17/(1+E25/100),3) -> 2.325 | G26: =ROUND(G17/(1+G25/100),3) -> 2.336 | I26: =ROUND(I17/(1+I25/100),3) -> 2.341 | K26: =ROUND(K17/(1+K25/100),3) -> 2.334
A27: 最大干密度(g/cm³) | C27: =辅助!C28 -> 2.36 | E27: =辅助!E28 -> 2.36 | G27: =辅助!G28 -> 2.36 | I27: =辅助!I28 -> 2.36 | K27: =辅助!K28 -> 2.36
A28: 实测压实度（%） | C28: =ROUND(C26*100/C27,1) -> 97.3 | E28: =ROUND(E26*100/E27,1) -> 98.5 | G28: =ROUND(G26*100/G27,1) -> 99 | I28: =ROUND(I26*100/I27,1) -> 99.2 | K28: =ROUND(K26*100/K27,1) -> 98.9
A29: 要求压实度（%） | C29: =辅助!C30 -> 0 | E29: =辅助!E30 -> 0 | G29: =辅助!G30 -> 0 | I29: =辅助!I30 -> 0 | K29: =辅助!K30 -> 0
A31: 试验人： | C31: 校核人： | G31: 监理工程师：

Sheet 辅助
A2: 干密度 | B2: 2.36 | D2: 最小值 | E2: 最大值 | G2: 最小值 | H2: 最大值 | I2: 沙总重 | J2: 20000 | K2: 自己扩展数据
A3: 沙密度 | B3: 1.43 | C3: 压实度 | D3: 97.1 | E3: 99.3 | F3: 烧含水量湿土质量 | G3: 550 | H3: 678 | I3: 要求压实度 | J3: 93
A4: 锥体沙重 | B4: 172 | C4: 余沙质量 | D4: 3800 | E4: 4700 | F4: 含水量 | G4: 7.89 | H4: 11.2 | I4: 含水量差值 | J4: 0.1
A5: 盒号 | B5: 1 | C5: 2 | D5: 3 | E5: 4 | F5: 5 | G5: 6 | H5: 7 | I5: 8 | J5: 9 | K5: 10 | L5: 11 | M5: 12
A6: 盒质量 | B6: 25.09 | C6: 24.19 | D6: 25.78 | E6: 22.63 | F6: 26.08 | G6: 23.43 | H6: 24.59 | I6: 23.63 | J6: 22.63 | K6: 26.06 | L6: 26.73 | M6: 24.88
A7: 盒号随机排列 | B7: =RAND() -> 0.73976438 | C7: =RAND() -> 0.14549915 | D7: =RAND() -> 0.36900765 | E7: =RAND() -> 0.35650604 | F7: =RAND() -> 0.0046248383 | G7: =RAND() -> 0.53741299 | H7: =RAND() -> 0.11773228 | I7: =RAND() -> 0.63438365 | ... M7: =RAND() -> 0.7748285
A8: 盒号 | B8: =RANK(盒号随机排列,盒号随机排列) -> 3 | C8: =RANK(盒号随机排列,盒号随机排列) -> 10 | D8: =RANK(盒号随机排列,盒号随机排列) -> 7 | E8: =RANK(盒号随机排列,盒号随机排列) -> 9 | F8: =RANK(盒号随机排列,盒号随机排列) -> 12 | G8: =RANK(盒号随机排列,盒号随机排列) -> 5 | H8: =RANK(盒号随机排列,盒号随机排列) -> 11 | I8: =RANK(盒号随机排列,盒号随机排列) -> 4 | ... M8: =RANK(盒号随机排列,盒号随机排列) -> 2
A9: QQ:8151190
A10: Web:www.lq52.com
A12: 筒质量+沙质量(g) | C12: =沙总重 -> 20000 | E12: =沙总重 -> 20000 | G12: =沙总重 -> 20000 | I12: =沙总重 -> 20000 | K12: =沙总重 -> 20000
A13: 筒质量+余沙质量(g) | C13: =ROUND((RAND()*(余沙质量最大值-余沙质量最小值)+余沙质量最小值),0) -> 3849 | E13: =ROUND((RAND()*(余沙质量最大值-余沙质量最小值)+余沙质量最小值),0) -> 4468 | G13: =ROUND((RAND()*(余沙质量最大值-余沙质量最小值)+余沙质量最小值),0) -> 4366 | I13: =ROUND((RAND()*(余沙质量最大值-余沙质量最小值)+余沙质量最小值),0) -> 3898 | K13: =ROUND((RAND()*(余沙质量最大值-余沙质量最小值)+余沙质量最小值),0) -> 4342
A14: 流出砂质量(g) | C14: =C12-C13 -> 16151 | E14: =E12-E13 -> 15532 | G14: =G12-G13 -> 15634 | I14: =I12-I13 -> 16102 | K14: =K12-K13 -> 15658
A15: 试坑中湿土质量(g) | C15: =C17*C18 -> 28047.056 | E15: =E17*E18 -> 26992.783 | G15: =G17*G18 -> 27485.597 | I15: =I17*I18 -> 28350.944 | K15: =K17*K18 -> 27376.649
A16: 坑内砂质量(g) | C16: =C14-锥体沙重 -> 15979 | E16: =E14-锥体沙重 -> 15360 | G16: =G14-锥体沙重 -> 15462 | I16: =I14-锥体沙重 -> 15930 | K16: =K14-锥体沙重 -> 15486
A17: 试坑体积(cm³) | C17: =C16/标准沙密度 -> 11174.126 | E17: =E16/标准沙密度 -> 10741.259 | G17: =G16/标准沙密度 -> 10812.587 | I17: =I16/标准沙密度 -> 11139.86 | K17: =K16/标准沙密度 -> 10829.371
A18: 试样湿密度(g/cm³) | C18: =ROUND(C27*(C26/100+1),3) -> 2.51 | E18: =ROUND(E27*(E26/100+1),3) -> 2.513 | G18: =ROUND(G27*(G26/100+1),3) -> 2.542 | I18: =ROUND(I27*(I26/100+1),3) -> 2.545 | K18: =ROUND(K27*(K26/100+1),3) -> 2.528
A19: 式样含水量 | B19: 盒号 | C19: =INDEX(盒号,1,B8) -> 3 | D19: =INDEX(盒号,1,C8) -> 10 | E19: =INDEX(盒号,1,D8) -> 7 | F19: =INDEX(盒号,1,E8) -> 9 | G19: =INDEX(盒号,1,F8) -> 12 | H19: =INDEX(盒号,1,G8) -> 5 | I19: =INDEX(盒号,1,H8) -> 11 | J19: =INDEX(盒号,1,I8) -> 4 | ... L19: =INDEX(盒号,1,K8) -> 8
B20: 盒质量(g) | C20: =INDEX(盒质量,,B8) -> 25.78 | D20: =INDEX(盒质量,,C8) -> 26.06 | E20: =INDEX(盒质量,,D8) -> 24.59 | F20: =INDEX(盒质量,,E8) -> 22.63 | G20: =INDEX(盒质量,,F8) -> 24.88 | H20: =INDEX(盒质量,,G8) -> 26.08 | I20: =INDEX(盒质量,,H8) -> 26.73 | J20: =INDEX(盒质量,,I8) -> 22.63 | ... L20: =INDEX(盒质量,,K8) -> 23.63
B21: 盒+湿土质量(g) | C21: =IF(水份质量最大值=0,C15+C20,C20+RAND()*(水份质量最大值-水份质量最小值)+水份质量最小值) -> 655.39056 | D21: =IF(水份质量最大值=0,D15+D20,D20+RAND()*(水份质量最大值-水份质量最小值)+水份质量最小值) -> 697.63461 | E21: =IF(水份质量最大值=0,E15+E20,E20+RAND()*(水份质量最大值-水份质量最小值)+水份质量最小值) -> 684.85432 | F21: =IF(水份质量最大值=0,F15+F20,F20+RAND()*(水份质量最大值-水份质量最小值)+水份质量最小值) -> 613.01056 | G21: =IF(水份质量最大值=0,G15+G20,G20+RAND()*(水份质量最大值-水份质量最小值)+水份质量最小值) -> 678.46839 | H21: =IF(水份质量最大值=0,H15+H20,H20+RAND()*(水份质量最大值-水份质量最小值)+水份质量最小值) -> 609.4799 | I21: =IF(水份质量最大值=0,I15+I20,I20+RAND()*(水份质量最大值-水份质量最小值)+水份质量最小值) -> 675.53335 | J21: =IF(水份质量最大值=0,J15+J20,J20+RAND()*(水份质量最大值-水份质量最小值)+水份质量最小值) -> 696.06592 | K21: =IF(水份质量最大值=0,K15+K20,K20+RAND()*(水份质量最大值-水份质量最小值)+水份质量最小值) -> 583.0125 | L21: =IF(水份质量最大值=0,K15+L20,L20+RAND()*(水份质量最大值-水份质量最小值)+水份质量最小值) -> 585.3332
B22: 盒+干土质量(g) | C22: =C21-C23 -> 601.81893 | D22: =D21-D23 -> 640.50194 | E22: =E21-E23 -> 635.94585 | F22: =F21-F23 -> 568.89189 | G22: =G21-G23 -> 625.053 | H22: =H21-H23 -> 562.05613 | I22: =I21-I23 -> 623.60521 | J22: =J21-J23 -> 642.06537 | ... L22: =L21-L23 -> 542.37964
B23: 水分质量(g) | C23: =C25*(C21-C20)/(100+C25) -> 53.571621 | D23: =D25*(D21-D20)/(100+D25) -> 57.132668 | E23: =E25*(E21-E20)/(100+E25) -> 48.908468 | F23: =F25*(F21-F20)/(100+F25) -> 44.11867 | G23: =G25*(G21-G20)/(100+G25) -> 53.415397 | H23: =H25*(H21-H20)/(100+H25) -> 47.423765 | I23: =I25*(I21-I20)/(100+I25) -> 51.928143 | J23: =J25*(J21-J20)/(100+J25) -> 54.000548 | ... L23: =L25*(L21-L20)/(100+L25) -> 42.95356
B24: 干土质量(g) | C24: =C22-C20 -> 576.03893 | D24: =D22-D20 -> 614.44194 | E24: =E22-E20 -> 611.35585 | F24: =F22-F20 -> 546.26189 | G24: =G22-G20 -> 600.173 | H24: =H22-H20 -> 535.97613 | I24: =I22-I20 -> 596.87521 | J24: =J22-J20 -> 619.43537 | ... L24: =L22-L20 -> 518.74964
B25: 含水量(%） | C25: =ROUND(RAND()*(含水量最大值-含水量最小值)+含水量最小值,1) -> 9.3 | D25: =C25+0.2*RAND()-0.1 -> 9.298302 | E25: =ROUND(RAND()*(含水量最大值-含水量最小值)+含水量最小值,1) -> 8 | F25: =E25+0.2*RAND()-0.1 -> 8.0764686 | G25: =ROUND(RAND()*(含水量最大值-含水量最小值)+含水量最小值,1) -> 8.9 | H25: =G25+0.2*RAND()-0.1 -> 8.8481114 | I25: =ROUND(RAND()*(含水量最大值-含水量最小值)+含水量最小值,1) -> 8.7 | J25: =I25+0.2*RAND()-0.1 -> 8.7177049 | K25: =ROUND(RAND()*(含水量最大值-含水量最小值)+含水量最小值,1) -> 8.3 | L25: =K25+0.2*RAND()-0.1 -> 8.2802101
B26: 平均含水量（%） | C26: =ROUND((C25+D25)/2,1) -> 9.3 | E26: =ROUND((E25+F25)/2,1) -> 8 | G26: =ROUND((G25+H25)/2,1) -> 8.9 | I26: =ROUND((I25+J25)/2,1) -> 8.7 | K26: =ROUND((K25+L25)/2,1) -> 8.3
A27: 干密度(g/cm³) | C27: =ROUND(C29*C28/100,3) -> 2.296 | E27: =ROUND(E29*E28/100,3) -> 2.327 | G27: =ROUND(G29*G28/100,3) -> 2.334 | I27: =ROUND(I29*I28/100,3) -> 2.341 | K27: =ROUND(K29*K28/100,3) -> 2.334
A28: 最大干密度(g/cm³) | C28: =最大干密度 -> 2.36 | E28: =最大干密度 -> 2.36 | G28: =最大干密度 -> 2.36 | I28: =最大干密度 -> 2.36 | K28: =最大干密度 -> 2.36
A29: 实测压实度（%） | C29: =ROUND(RAND()*(压实度最大值-压实度最小值)+压实度最小值,1) -> 97.3 | E29: =ROUND(RAND()*(压实度最大值-压实度最小值)+压实度最小值,1) -> 98.6 | G29: =ROUND(RAND()*(压实度最大值-压实度最小值)+压实度最小值,1) -> 98.9 | I29: =ROUND(RAND()*(压实度最大值-压实度最小值)+压实度最小值,1) -> 99.2 | K29: =ROUND(RAND()*(压实度最大值-压实度最小值)+压实度最小值,1) -> 98.9
