Workbook

Sheet A通则
A1: A 通则
A2: 工程量清单
A3: 泸州长江大桥工程 货币单位：人民币元
A4: 编号 | B4: 项目名称 | C4: 单位 | D4: 数量 | E4: 单价 | F4: 合价
A5: 10-1 | B5: 大型临时设施及过渡工程 | C5: LS | F5: 1581621
C9: 本页小计： | F9: =F5 -> 1581621

Sheet B桥梁工程1-5节
A1: B 桥梁工程1～５节
A2: 工程量清单
A3: 泸州长江大桥工程 货币单位：人民币元
A4: 编号 | B4: 项目名称 | C4: 单位 | D4: 数量 | E4: 单价 | F4: 合价
A5: 5-1 | B5: 钻孔灌注桩
A6: 5-1.1 | B6: 桩径2.5米钻孔桩 | C6: m | D6: 569.0 | E6: 25222.39 | F6: =E6*D6 -> 14351540
A7: 5-1.2 | B7: 桩径1.5米钻孔桩 | C7: m | D7: 1057.2 | E7: 3813.47 | F7: =E7*D7 -> 4031600.5
A8: 5-1.3 | B8: 钢筋笼钢筋 | C8: t | D8: 255 | E8: 5147.63 | F8: =E8*D8 -> 1312645.7
A9: 5-1.4 | B9: 钢料 | C9: t | D9: 309 | E9: 7601.39 | F9: =E9*D9 -> 2348829.5
A10: 5-2 | B10: 取芯钻探试验
A11: 5-2.1 | B11: 样芯直径70mm | C11: m | D11: 31.72 | E11: 380 | F11: =E11*D11 -> 12053.6
A12: 5-2.2 | B12: 样芯直径100mm | C12: m | D12: 17.08 | E12: 543 | F12: =E12*D12 -> 9274.44
D15: 本页小计: | F15: =SUM(F6:F12) -> 22065944

Sheet 第6节
A1: 第6节
A2: 工程量清单
A3: 泸州长江大桥工程 货币单位：人民币元
A4: 编号 | B4: 项 目 名 称 | C4: 单位 | D4: 数量 | E4: 单价 | F4: 合价
A5: 6-1 | B5: 承台
A6: 6-1.1 | B6: C25混凝土 | C6: m3 | D6: 8792 | E6: 637.39 | F6: =E6*D6 -> 5603932.9
A7: 6-1.2 | B7: 钢筋 | C7: t | D7: 428 | E7: 4856.84 | F7: =E7*D7 -> 2078727.5
A8: 6-2 | B8: 墩台身帽
A9: 6-2.1 | B9: C25混凝土 | C9: m3 | D9: 10312 | E9: 886.82 | F9: =E9*D9 -> 9144887.8
A10: 6-2.2 | B10: C30混凝土 | C10: m3 | D10: 1061 | E10: 1041.85 | F10: =E10*D10 -> 1105402.8
A11: 6-2.3 | B11: 钢筋 | C11: t | D11: 518 | E11: 5056.57 | F11: =E11*D11 -> 2619303.3
A12: 6-3 | B12: 明挖基础
A13: 6-3.1 | B13: C20砼 | C13: m3 | D13: 1464 | E13: 718.66 | F13: =E13*D13 -> 1052118.2
A14: 6-3.2 | B14: 钢筋 | C14: t | D14: 32 | E14: 4856.84 | F14: =E14*D14 -> 155418.88
D17: 本页小计: | F17: 21759792

Sheet 第7.8节
A1: 第7节
A2: 工程量清单
A3: 泸州长江大桥工程 货币单位：人民币元
A4: 编号 | B4: 项 目 名 称 | C4: 单位 | D4: 数量 | E4: 单价 | F4: 合价
A5: 7-1 | B5: 连续刚构
A6: 7-1.1 | B6: 钢筋 | C6: t | D6: 2366 | E6: 5754.69 | F6: =D6*E6 -> 13615597
A7: 7-1.2 | B7: 钢绞线(7ф5) | C7: t | D7: 486 | E7: 17761.52 | F7: =D7*E7 -> 8632098.7
A8: 7-1.3 | B8: 粗钢筋( 1/32） | C8: t | D8: 307 | E8: 20378.9 | F8: =D8*E8 -> 6256322.3
A9: 7-1.4 | B9: C50混凝土 | C9: m3 | D9: 17349 | E9: 1350.67 | F9: =D9*E9 -> 23432774
A10: 7-1.5 | B10: 钢料 | C10: t | D10: 43 | E10: 6320.06 | F10: =D10*E10 -> 271762.58
D13: 本页小计: | F13: 52208555
A17: 第8节
A18: 工程量清单
A19: 泸州长江大桥工程 货币单位：人民币元
A20: 编号 | B20: 项 目 名 称 | C20: 单位 | D20: 数量 | E20: 单价 | F20: 合价
A21: 8-1 | B21: 双壁钢围堰
A22: 8-1.1 | B22: 封底及填充砼 | C22: m3 | D22: 8605 | E22: 887.64 | F22: =E22*D22 -> 7638142.2
A23: 8-1.2 | B23: 钢料 | C23: t | D23: 559 | E23: 21284.59 | F23: =E23*D23 -> 11898086
A24: 8-1.3 | B24: 水上大型机械使用费 | C24: LS | F24: 2993000
D27: 本页小计: | F27: 22529228

Sheet 9-12节
A1: 第9～12节
A2: 工程量清单
A3: 泸州长江大桥工程 货币单位：人民币元
A4: 编号 | B4: 项 目 名 称 | C4: 单位 | D4: 数量 | E4: 单价 | F4: 合价
A5: 9-1 | B5: 支座
A6: 9-1.1 | B6: 盆式橡胶支座 | C6: 套 | D6: 4 | E6: 17896.95 | F6: =D6*E6 -> 71587.8
A7: 10-1 | B7: 路基
A8: 10-1.2 | B8: 填方 | C8: m3 | D8: 10780 | E8: 11.83 | F8: =D8*E8 -> 127527.4
A9: 10-13. | B9: 挖方 | C9: m3 | D9: 13763 | E9: 18.67 | F9: =D9*E9 -> 256955.21
A10: 11-1 | B10: 附属工程
A11: 11-1.1 | B11: 防水砼及挡碴墙砼 | C11: m3 | D11: 142 | E11: 875.9 | F11: =D11*E11 -> 124377.8
A12: 11-1.2 | B12: 防水层面积 | C12: m2 | D12: 2107 | E12: 31.36 | F12: =D12*E12 -> 66075.52
A13: 11-1.3 | B13: 钢筋 | C13: t | D13: 21 | E13: 9328.67 | F13: =D13*E13 -> 195902.07
A14: 11-1.4 | B14: 钢料 | C14: t | D14: 2.7 | E14: 4892.23 | F14: =D14*E14 -> 13209.021
A15: 11-2 | B15: 员工走道
A16: 11-2.1 | B16: 钢筋 | C16: t | D16: 6.0 | E16: 9328.67 | F16: =D16*E16 -> 55972.02
A17: 11-2.2 | B17: 钢料 | C17: t | D17: 18.9 | E17: 4892.23 | F17: =D17*E17 -> 92463.147
A18: 11-3 | B18: 墩顶围栏(含正桥检查设备)
A19: 11-3.1 | B19: 砼 | C19: m3 | D19: 19 | E19: 700.11 | F19: =D19*E19 -> 13302.09
A20: 11-3.2 | B20: 钢料 | C20: t | D20: 29.1 | E20: 9328.67 | F20: =D20*E20 -> 271464.3
A21: 11-3.3 | B21: 沥青砂填缝 | C21: m3 | D21: 2.0 | E21: 842.9 | F21: =D21*E21 -> 1685.8
A22: 12-1 | B22: 砌体工程
A23: 12-1.1 | B23: 锥体护坡浆砌片石 | C23: m3 | D23: 550 | E23: 328.92 | F23: =D23*E23 -> 180906
A24: 12-1.2 | B24: 路基防护浆砌片石 | C24: m3 | D24: 370 | E24: 319.85 | F24: =D24*E24 -> 118344.5
A25: 12-1.3 | B25: 桥墩防护砼 | C25: m3 | D25: 200 | E25: 516.89 | F25: =D25*E25 -> 103378
D28: 本页小计: | F28: =SUM(F6:F25) -> 1693150.7

Sheet D汇总表
A1: D 工程量清单汇总表
A2: 泸州长江大桥工程
A3: 项号 | B3: 章 节 号 | C3: 金额(人民币元) | D3: 备 注
A4: (1) | B4: A通则 | C4: 1581621
A5: (2) | B5: B桥梁工程和路基 | C5: =C6+C7+C8+C9+C10 -> 1.2025667e+08
B6: 其中：第1节～第5节 | C6: ='B桥梁工程1-5节'!F15 -> 22065944
B7: 第6节 | C7: =第6节!F17 -> 21759792
B8: 第7节 | C8: =第7.8节!F13 -> 52208555
B9: 第8节 | C9: =第7.8节!F27 -> 22529228
B10: 第9节～第12节 | C10: ='9-12节'!F28 -> 1693150.7
B11: 第5节～第12节合计 | C11: =C6+C7+C8+C9+C10 -> 1.2025667e+08
A12: (3) | B12: 总计(1)项+(2)项 | C12: =C11+C4 -> 1.2183829e+08
A13: (4) | B13: Ⅱ、Ⅲ类变更包干费: 总计×5％×50％ | C13: =C12*0.025 -> 3045957.3
B14: 暂定金：总计×5％－前项 | C14: =C13 -> 3045957.3 | D14: 不进入投标总价
A15: (5) | B15: 投标总价 | C15: =C12+C13 -> 1.2488425e+08
